BEGIN:VCALENDAR
VERSION:2.0
PRODID:-//Didi&#039;s Downtown - ECPv5.16.4//NONSGML v1.0//EN
CALSCALE:GREGORIAN
METHOD:PUBLISH
X-ORIGINAL-URL:https://didisdowntown.com
X-WR-CALDESC:Events for Didi&#039;s Downtown
REFRESH-INTERVAL;VALUE=DURATION:PT1H
X-Robots-Tag:noindex
X-PUBLISHED-TTL:PT1H
BEGIN:VTIMEZONE
TZID:UTC
BEGIN:STANDARD
TZOFFSETFROM:+0000
TZOFFSETTO:+0000
TZNAME:UTC
DTSTART:20250101T000000
END:STANDARD
END:VTIMEZONE
BEGIN:VEVENT
DTSTART;TZID=UTC:20250402T183000
DTEND;TZID=UTC:20250402T213000
DTSTAMP:20260420T001230
CREATED:20250312T183808Z
LAST-MODIFIED:20250312T183808Z
UID:2353-1743618600-1743629400@didisdowntown.com
SUMMARY:Live Music - Byron Haynie
DESCRIPTION:
URL:https://didisdowntown.com/event/live-music-byron-haynie-75/
CATEGORIES:Live Music
END:VEVENT
BEGIN:VEVENT
DTSTART;TZID=UTC:20250403T183000
DTEND;TZID=UTC:20250403T213000
DTSTAMP:20260420T001230
CREATED:20250312T184147Z
LAST-MODIFIED:20250312T184147Z
UID:2355-1743705000-1743715800@didisdowntown.com
SUMMARY:Live Music - Todd Stewart
DESCRIPTION:
URL:https://didisdowntown.com/event/live-music-todd-stewart-15/
CATEGORIES:Live Music
END:VEVENT
BEGIN:VEVENT
DTSTART;TZID=UTC:20250404T190000
DTEND;TZID=UTC:20250404T220000
DTSTAMP:20260420T001230
CREATED:20250312T184212Z
LAST-MODIFIED:20250312T184212Z
UID:2357-1743793200-1743804000@didisdowntown.com
SUMMARY:Live Music - Take 4 Jazz Quartet
DESCRIPTION:
URL:https://didisdowntown.com/event/live-music-take-4-jazz-quartet-13/
CATEGORIES:Live Music
END:VEVENT
BEGIN:VEVENT
DTSTART;TZID=UTC:20250405T190000
DTEND;TZID=UTC:20250405T220000
DTSTAMP:20260420T001230
CREATED:20250312T184233Z
LAST-MODIFIED:20250312T184233Z
UID:2359-1743879600-1743890400@didisdowntown.com
SUMMARY:Live Music - Top Cats
DESCRIPTION:
URL:https://didisdowntown.com/event/live-music-top-cats-3/
CATEGORIES:Live Music
END:VEVENT
BEGIN:VEVENT
DTSTART;TZID=UTC:20250406T113000
DTEND;TZID=UTC:20250406T143000
DTSTAMP:20260420T001230
CREATED:20250312T184256Z
LAST-MODIFIED:20250312T184256Z
UID:2361-1743939000-1743949800@didisdowntown.com
SUMMARY:Live Music - Brian Erickson
DESCRIPTION:
URL:https://didisdowntown.com/event/live-music-brian-erickson-50/
CATEGORIES:Live Music
END:VEVENT
BEGIN:VEVENT
DTSTART;TZID=UTC:20250423T063000
DTEND;TZID=UTC:20250423T213000
DTSTAMP:20260420T001230
CREATED:20250417T031921Z
LAST-MODIFIED:20250417T031921Z
UID:2367-1745389800-1745443800@didisdowntown.com
SUMMARY:Live Music - Bethany Lorentzen
DESCRIPTION:
URL:https://didisdowntown.com/event/live-music-bethany-lorentzen-2/
CATEGORIES:Live Music
END:VEVENT
BEGIN:VEVENT
DTSTART;TZID=UTC:20250424T183000
DTEND;TZID=UTC:20250424T213000
DTSTAMP:20260420T001230
CREATED:20250417T031951Z
LAST-MODIFIED:20250417T031951Z
UID:2369-1745519400-1745530200@didisdowntown.com
SUMMARY:Live Music - Byron Haynie
DESCRIPTION:
URL:https://didisdowntown.com/event/live-music-byron-haynie-76/
CATEGORIES:Live Music
END:VEVENT
BEGIN:VEVENT
DTSTART;TZID=UTC:20250425T190000
DTEND;TZID=UTC:20250425T220000
DTSTAMP:20260420T001230
CREATED:20250417T032012Z
LAST-MODIFIED:20250417T032012Z
UID:2371-1745607600-1745618400@didisdowntown.com
SUMMARY:Live Music - Missing 3
DESCRIPTION:
URL:https://didisdowntown.com/event/live-music-missing-3-16/
CATEGORIES:Live Music
END:VEVENT
BEGIN:VEVENT
DTSTART;TZID=UTC:20250426T190000
DTEND;TZID=UTC:20250426T220000
DTSTAMP:20260420T001230
CREATED:20250417T032039Z
LAST-MODIFIED:20250417T032039Z
UID:2373-1745694000-1745704800@didisdowntown.com
SUMMARY:Live Music - Razzmatazz
DESCRIPTION:
URL:https://didisdowntown.com/event/live-music-razzmatazz-38/
CATEGORIES:Live Music
END:VEVENT
BEGIN:VEVENT
DTSTART;TZID=UTC:20250427T113000
DTEND;TZID=UTC:20250427T143000
DTSTAMP:20260420T001230
CREATED:20250417T032112Z
LAST-MODIFIED:20250417T032112Z
UID:2375-1745753400-1745764200@didisdowntown.com
SUMMARY:Live Music - Wooden Nickel
DESCRIPTION:
URL:https://didisdowntown.com/event/live-music-wooden-nickel-89/
CATEGORIES:Live Music
END:VEVENT
BEGIN:VEVENT
DTSTART;TZID=UTC:20250430T183000
DTEND;TZID=UTC:20250430T213000
DTSTAMP:20260420T001230
CREATED:20250417T032134Z
LAST-MODIFIED:20250417T032134Z
UID:2377-1746037800-1746048600@didisdowntown.com
SUMMARY:Live Music - Eric Erickson
DESCRIPTION:
URL:https://didisdowntown.com/event/live-music-eric-erickson-88/
CATEGORIES:Live Music
END:VEVENT
END:VCALENDAR