BEGIN:VCALENDAR
VERSION:2.0
PRODID:-//Didi&#039;s Downtown - ECPv5.16.4//NONSGML v1.0//EN
CALSCALE:GREGORIAN
METHOD:PUBLISH
X-ORIGINAL-URL:https://didisdowntown.com
X-WR-CALDESC:Events for Didi&#039;s Downtown
REFRESH-INTERVAL;VALUE=DURATION:PT1H
X-Robots-Tag:noindex
X-PUBLISHED-TTL:PT1H
BEGIN:VTIMEZONE
TZID:UTC
BEGIN:STANDARD
TZOFFSETFROM:+0000
TZOFFSETTO:+0000
TZNAME:UTC
DTSTART:20250101T000000
END:STANDARD
END:VTIMEZONE
BEGIN:VEVENT
DTSTART;TZID=UTC:20251224T170000
DTEND;TZID=UTC:20251224T200000
DTSTAMP:20260419T120413
CREATED:20250919T192221Z
LAST-MODIFIED:20250919T192221Z
UID:2719-1766595600-1766606400@didisdowntown.com
SUMMARY:Christmas Eve Dinner
DESCRIPTION:Prime Rib Dinner at Didi's Downtown!  \nDate: Wednesday\, December 24th - open til 8pm\nReservations Highly Recommended: www.didisdowntown.com or Call 469-888-4020 \nJoin us for an unforgettable evening featuring Scott’s world-famous prime rib with red wine au jus\, horseradish cream\, garlic bacon green beans\, and loaded baked potato au gratin. \nEnjoy live jazz music on our cozy enclosed patio\, creating the perfect ambiance for a delightful dining experience. \nDon't miss out on this exquisite meal! Reserve your spot today!
URL:https://didisdowntown.com/event/christmas-eve-dinner/
END:VEVENT
END:VCALENDAR