BEGIN:VCALENDAR
VERSION:2.0
PRODID:-//Didi&#039;s Downtown - ECPv5.16.4//NONSGML v1.0//EN
CALSCALE:GREGORIAN
METHOD:PUBLISH
X-WR-CALNAME:Didi&#039;s Downtown
X-ORIGINAL-URL:https://didisdowntown.com
X-WR-CALDESC:Events for Didi&#039;s Downtown
REFRESH-INTERVAL;VALUE=DURATION:PT1H
X-Robots-Tag:noindex
X-PUBLISHED-TTL:PT1H
BEGIN:VTIMEZONE
TZID:UTC
BEGIN:STANDARD
TZOFFSETFROM:+0000
TZOFFSETTO:+0000
TZNAME:UTC
DTSTART:20250101T000000
END:STANDARD
END:VTIMEZONE
BEGIN:VEVENT
DTSTART;TZID=UTC:20251031T190000
DTEND;TZID=UTC:20251031T220000
DTSTAMP:20260419T133409
CREATED:20250822T224901Z
LAST-MODIFIED:20250822T224901Z
UID:2669-1761937200-1761948000@didisdowntown.com
SUMMARY:Live Music - Miracle Ticket
DESCRIPTION:
URL:https://didisdowntown.com/event/live-music-miracle-ticket-4/
CATEGORIES:Live Music
END:VEVENT
BEGIN:VEVENT
DTSTART;TZID=UTC:20251031T190000
DTEND;TZID=UTC:20251031T220000
DTSTAMP:20260419T133409
CREATED:20250919T191106Z
LAST-MODIFIED:20250919T191106Z
UID:2712-1761937200-1761948000@didisdowntown.com
SUMMARY:Halloween 60's & 70's Costume Party
DESCRIPTION:✨🕺🎃 Halloween Costume Party at Didi’s! 🎃🕺✨ \nGet ready to groove back in time—Didi’s Downtown is throwing a 60’s & 70’s Costume Party this Halloween! \n📅 Friday\, October 31st⏰ 7 PM – 10 PM🎶 Live music by Miracle Ticket – an incredible Grateful Dead tribute band! \nPull out your bell bottoms\, fringe\, tie-dye\, and platform shoes—it’s going to be a night of far-out fun\, dancing\, and spooky vibes with a retro twist. \n✨ Costumes are highly encouraged✨ Delicious food & drinks available all night✨ Themed night full of music\, memories\, and magic \n🪩 Reservations are highly recommended at www.didisdowntown.com or by calling 469-888-4020.
URL:https://didisdowntown.com/event/halloween-60s-70s-costume-party/
END:VEVENT
END:VCALENDAR