BEGIN:VCALENDAR
VERSION:2.0
PRODID:-//Didi&#039;s Downtown - ECPv5.16.4//NONSGML v1.0//EN
CALSCALE:GREGORIAN
METHOD:PUBLISH
X-WR-CALNAME:Didi&#039;s Downtown
X-ORIGINAL-URL:https://didisdowntown.com
X-WR-CALDESC:Events for Didi&#039;s Downtown
REFRESH-INTERVAL;VALUE=DURATION:PT1H
X-Robots-Tag:noindex
X-PUBLISHED-TTL:PT1H
BEGIN:VTIMEZONE
TZID:UTC
BEGIN:STANDARD
TZOFFSETFROM:+0000
TZOFFSETTO:+0000
TZNAME:UTC
DTSTART:20250101T000000
END:STANDARD
END:VTIMEZONE
BEGIN:VEVENT
DTSTART;TZID=UTC:20251019T113000
DTEND;TZID=UTC:20251019T143000
DTSTAMP:20260419T151550
CREATED:20250809T013153Z
LAST-MODIFIED:20250809T013153Z
UID:2651-1760873400-1760884200@didisdowntown.com
SUMMARY:Live Music - Byron Haynie
DESCRIPTION:
URL:https://didisdowntown.com/event/live-music-byron-haynie-88/
CATEGORIES:Live Music
END:VEVENT
END:VCALENDAR