BEGIN:VCALENDAR
VERSION:2.0
PRODID:-//Didi&#039;s Downtown - ECPv5.16.4//NONSGML v1.0//EN
CALSCALE:GREGORIAN
METHOD:PUBLISH
X-ORIGINAL-URL:https://didisdowntown.com
X-WR-CALDESC:Events for Didi&#039;s Downtown
REFRESH-INTERVAL;VALUE=DURATION:PT1H
X-Robots-Tag:noindex
X-PUBLISHED-TTL:PT1H
BEGIN:VTIMEZONE
TZID:UTC
BEGIN:STANDARD
TZOFFSETFROM:+0000
TZOFFSETTO:+0000
TZNAME:UTC
DTSTART:20250101T000000
END:STANDARD
END:VTIMEZONE
BEGIN:VEVENT
DTSTART;TZID=UTC:20251014T180000
DTEND;TZID=UTC:20251014T200000
DTSTAMP:20260419T151420
CREATED:20250919T190722Z
LAST-MODIFIED:20250919T190722Z
UID:2710-1760464800-1760472000@didisdowntown.com
SUMMARY:Paint Night With Patrick Ganino
DESCRIPTION:Paint Night at Didi's Downtown taught by downtown muralist Patrick Ganino. Tuesday October 14th from 6PM-8PM ($40.00 per person)Come enjoy Paint night at Didi's Downtown. Ever wonder where all the wonderful murals downtown come from? Well here is your chance to have an intimate evening with the artist himself. $40 per person includes everything you need to create your masterpiece! \nPurchase tickets here : https://www.eventbrite.com/e/paint-night-at-didis-tickets-1671981935979
URL:https://didisdowntown.com/event/paint-night-with-patrick-ganino/
CATEGORIES:Live Music
END:VEVENT
END:VCALENDAR