BEGIN:VCALENDAR
VERSION:2.0
PRODID:-//Didi&#039;s Downtown - ECPv5.16.4//NONSGML v1.0//EN
CALSCALE:GREGORIAN
METHOD:PUBLISH
X-WR-CALNAME:Didi&#039;s Downtown
X-ORIGINAL-URL:https://didisdowntown.com
X-WR-CALDESC:Events for Didi&#039;s Downtown
REFRESH-INTERVAL;VALUE=DURATION:PT1H
X-Robots-Tag:noindex
X-PUBLISHED-TTL:PT1H
BEGIN:VTIMEZONE
TZID:UTC
BEGIN:STANDARD
TZOFFSETFROM:+0000
TZOFFSETTO:+0000
TZNAME:UTC
DTSTART:20250101T000000
END:STANDARD
END:VTIMEZONE
BEGIN:VEVENT
DTSTART;TZID=UTC:20251002T183000
DTEND;TZID=UTC:20251002T203000
DTSTAMP:20260419T151301
CREATED:20250725T193824Z
LAST-MODIFIED:20250919T190559Z
UID:2622-1759429800-1759437000@didisdowntown.com
SUMMARY:Oktoberfest
DESCRIPTION: Oktoberfest at Didi’s Downtown! \n\nJoin us on Thursday\, October 2nd for an evening full of Oktoberfest fun! \n\nWe’ll be serving up authentic German eats like: Bavarian Pretzels Bratwursts Schnitzel\n\nAnd of course\, it wouldn’t be Oktoberfest without the beer!  Enjoy a great lineup:\nArmor Brewing Danke\nFirestone Oaktoberfest\nAltstadt Oktoberfest\nSam Adams Oktoberfest\nShiner Oktoberfest\n\n Live music from Svetlana Ivanchenko on accordion from 6:30–8:30 PM to set the perfect Bavarian vibe.\nPull out your lederhosen and raise a stein with us—this will be a night you won’t want to miss! \n\n Reservations recommended at didisdowntown.com or call 469-888-4020
URL:https://didisdowntown.com/event/live-music-noel-kerns-42/
CATEGORIES:Live Music
END:VEVENT
END:VCALENDAR