BEGIN:VCALENDAR
VERSION:2.0
PRODID:-//Didi&#039;s Downtown - ECPv5.16.4//NONSGML v1.0//EN
CALSCALE:GREGORIAN
METHOD:PUBLISH
X-WR-CALNAME:Didi&#039;s Downtown
X-ORIGINAL-URL:https://didisdowntown.com
X-WR-CALDESC:Events for Didi&#039;s Downtown
REFRESH-INTERVAL;VALUE=DURATION:PT1H
X-Robots-Tag:noindex
X-PUBLISHED-TTL:PT1H
BEGIN:VTIMEZONE
TZID:UTC
BEGIN:STANDARD
TZOFFSETFROM:+0000
TZOFFSETTO:+0000
TZNAME:UTC
DTSTART:20250101T000000
END:STANDARD
END:VTIMEZONE
BEGIN:VEVENT
DTSTART;TZID=UTC:20250918T183000
DTEND;TZID=UTC:20250918T213000
DTSTAMP:20260419T170043
CREATED:20250725T193256Z
LAST-MODIFIED:20250725T193256Z
UID:2602-1758220200-1758231000@didisdowntown.com
SUMMARY:Live Music - Mick Tinsley
DESCRIPTION:
URL:https://didisdowntown.com/event/live-music-mick-tinsley-37/
CATEGORIES:Live Music
END:VEVENT
END:VCALENDAR