BEGIN:VCALENDAR
VERSION:2.0
PRODID:-//Didi&#039;s Downtown - ECPv5.16.4//NONSGML v1.0//EN
CALSCALE:GREGORIAN
METHOD:PUBLISH
X-WR-CALNAME:Didi&#039;s Downtown
X-ORIGINAL-URL:https://didisdowntown.com
X-WR-CALDESC:Events for Didi&#039;s Downtown
REFRESH-INTERVAL;VALUE=DURATION:PT1H
X-Robots-Tag:noindex
X-PUBLISHED-TTL:PT1H
BEGIN:VTIMEZONE
TZID:UTC
BEGIN:STANDARD
TZOFFSETFROM:+0000
TZOFFSETTO:+0000
TZNAME:UTC
DTSTART:20250101T000000
END:STANDARD
END:VTIMEZONE
BEGIN:VEVENT
DTSTART;TZID=UTC:20250803T110000
DTEND;TZID=UTC:20250803T140000
DTSTAMP:20260419T184946
CREATED:20250723T174646Z
LAST-MODIFIED:20250723T174646Z
UID:2534-1754218800-1754229600@didisdowntown.com
SUMMARY:Live Music - Hankins
DESCRIPTION:
URL:https://didisdowntown.com/event/live-music-hankins-4/
CATEGORIES:Live Music
END:VEVENT
BEGIN:VEVENT
DTSTART;TZID=UTC:20250803T183000
DTEND;TZID=UTC:20250803T193000
DTSTAMP:20260419T184946
CREATED:20250723T174712Z
LAST-MODIFIED:20250723T174712Z
UID:2536-1754245800-1754249400@didisdowntown.com
SUMMARY:Live Music - A.C. Unit
DESCRIPTION:
URL:https://didisdowntown.com/event/live-music-a-c-unit/
CATEGORIES:Live Music
END:VEVENT
END:VCALENDAR