BEGIN:VCALENDAR
VERSION:2.0
PRODID:-//Didi&#039;s Downtown - ECPv5.16.4//NONSGML v1.0//EN
CALSCALE:GREGORIAN
METHOD:PUBLISH
X-WR-CALNAME:Didi&#039;s Downtown
X-ORIGINAL-URL:https://didisdowntown.com
X-WR-CALDESC:Events for Didi&#039;s Downtown
REFRESH-INTERVAL;VALUE=DURATION:PT1H
X-Robots-Tag:noindex
X-PUBLISHED-TTL:PT1H
BEGIN:VTIMEZONE
TZID:UTC
BEGIN:STANDARD
TZOFFSETFROM:+0000
TZOFFSETTO:+0000
TZNAME:UTC
DTSTART:20250101T000000
END:STANDARD
END:VTIMEZONE
BEGIN:VEVENT
DTSTART;TZID=UTC:20250620T190000
DTEND;TZID=UTC:20250620T220000
DTSTAMP:20260419T222429
CREATED:20250523T191026Z
LAST-MODIFIED:20250523T191026Z
UID:2457-1750446000-1750456800@didisdowntown.com
SUMMARY:Live Music - Take 4 Jazz Quartet
DESCRIPTION:
URL:https://didisdowntown.com/event/live-music-take-4-jazz-quartet-16/
CATEGORIES:Live Music
END:VEVENT
END:VCALENDAR