BEGIN:VCALENDAR
VERSION:2.0
PRODID:-//Didi&#039;s Downtown - ECPv5.16.4//NONSGML v1.0//EN
CALSCALE:GREGORIAN
METHOD:PUBLISH
X-WR-CALNAME:Didi&#039;s Downtown
X-ORIGINAL-URL:https://didisdowntown.com
X-WR-CALDESC:Events for Didi&#039;s Downtown
REFRESH-INTERVAL;VALUE=DURATION:PT1H
X-Robots-Tag:noindex
X-PUBLISHED-TTL:PT1H
BEGIN:VTIMEZONE
TZID:UTC
BEGIN:STANDARD
TZOFFSETFROM:+0000
TZOFFSETTO:+0000
TZNAME:UTC
DTSTART:20250101T000000
END:STANDARD
END:VTIMEZONE
BEGIN:VEVENT
DTSTART;TZID=UTC:20250518T110000
DTEND;TZID=UTC:20250518T140000
DTSTAMP:20260420T002053
CREATED:20250427T000618Z
LAST-MODIFIED:20250427T000618Z
UID:2408-1747566000-1747576800@didisdowntown.com
SUMMARY:Live Music - Hankins
DESCRIPTION:
URL:https://didisdowntown.com/event/live-music-hankins-3/
CATEGORIES:Live Music
END:VEVENT
BEGIN:VEVENT
DTSTART;TZID=UTC:20250518T173000
DTEND;TZID=UTC:20250518T193000
DTSTAMP:20260420T002053
CREATED:20250427T001420Z
LAST-MODIFIED:20250427T001420Z
UID:2411-1747589400-1747596600@didisdowntown.com
SUMMARY:Live Music - Texas Born John Lewis
DESCRIPTION:
URL:https://didisdowntown.com/event/live-music-texas-born-john-lewis/
CATEGORIES:Live Music
END:VEVENT
END:VCALENDAR