BEGIN:VCALENDAR
VERSION:2.0
PRODID:-//Didi&#039;s Downtown - ECPv5.16.4//NONSGML v1.0//EN
CALSCALE:GREGORIAN
METHOD:PUBLISH
X-ORIGINAL-URL:https://didisdowntown.com
X-WR-CALDESC:Events for Didi&#039;s Downtown
REFRESH-INTERVAL;VALUE=DURATION:PT1H
X-Robots-Tag:noindex
X-PUBLISHED-TTL:PT1H
BEGIN:VTIMEZONE
TZID:UTC
BEGIN:STANDARD
TZOFFSETFROM:+0000
TZOFFSETTO:+0000
TZNAME:UTC
DTSTART:20240101T000000
END:STANDARD
END:VTIMEZONE
BEGIN:VEVENT
DTSTART;TZID=UTC:20241013T113000
DTEND;TZID=UTC:20241013T143000
DTSTAMP:20260420T125224
CREATED:20240920T185757Z
LAST-MODIFIED:20240920T185757Z
UID:2131-1728819000-1728829800@didisdowntown.com
SUMMARY:Live Music - Wooden Nickel
DESCRIPTION:
URL:https://didisdowntown.com/event/live-music-wooden-nickel-78/
CATEGORIES:Live Music
END:VEVENT
BEGIN:VEVENT
DTSTART;TZID=UTC:20241013T180000
DTEND;TZID=UTC:20241013T193000
DTSTAMP:20260420T125224
CREATED:20240920T185825Z
LAST-MODIFIED:20240920T185825Z
UID:2133-1728842400-1728847800@didisdowntown.com
SUMMARY:Live Music - Addison Taylor
DESCRIPTION:
URL:https://didisdowntown.com/event/live-music-addison-taylor/
CATEGORIES:Live Music
END:VEVENT
END:VCALENDAR