BEGIN:VCALENDAR
VERSION:2.0
PRODID:-//Didi&#039;s Downtown - ECPv5.16.4//NONSGML v1.0//EN
CALSCALE:GREGORIAN
METHOD:PUBLISH
X-WR-CALNAME:Didi&#039;s Downtown
X-ORIGINAL-URL:https://didisdowntown.com
X-WR-CALDESC:Events for Didi&#039;s Downtown
REFRESH-INTERVAL;VALUE=DURATION:PT1H
X-Robots-Tag:noindex
X-PUBLISHED-TTL:PT1H
BEGIN:VTIMEZONE
TZID:UTC
BEGIN:STANDARD
TZOFFSETFROM:+0000
TZOFFSETTO:+0000
TZNAME:UTC
DTSTART:20240101T000000
END:STANDARD
END:VTIMEZONE
BEGIN:VEVENT
DTSTART;TZID=UTC:20241004T190000
DTEND;TZID=UTC:20241004T220000
DTSTAMP:20260420T130054
CREATED:20240920T185316Z
LAST-MODIFIED:20240920T185316Z
UID:2117-1728068400-1728079200@didisdowntown.com
SUMMARY:Live Music - Razzmatazz
DESCRIPTION:
URL:https://didisdowntown.com/event/live-music-razzmatazz-33/
CATEGORIES:Live Music
END:VEVENT
END:VCALENDAR