BEGIN:VCALENDAR
VERSION:2.0
PRODID:-//Didi&#039;s Downtown - ECPv5.16.4//NONSGML v1.0//EN
CALSCALE:GREGORIAN
METHOD:PUBLISH
X-WR-CALNAME:Didi&#039;s Downtown
X-ORIGINAL-URL:https://didisdowntown.com
X-WR-CALDESC:Events for Didi&#039;s Downtown
REFRESH-INTERVAL;VALUE=DURATION:PT1H
X-Robots-Tag:noindex
X-PUBLISHED-TTL:PT1H
BEGIN:VTIMEZONE
TZID:UTC
BEGIN:STANDARD
TZOFFSETFROM:+0000
TZOFFSETTO:+0000
TZNAME:UTC
DTSTART:20240101T000000
END:STANDARD
END:VTIMEZONE
BEGIN:VEVENT
DTSTART;TZID=UTC:20240922T110000
DTEND;TZID=UTC:20240922T140000
DTSTAMP:20260420T160932
CREATED:20240915T183400Z
LAST-MODIFIED:20240915T183400Z
UID:2100-1727002800-1727013600@didisdowntown.com
SUMMARY:Live Music  - Mick Tinsley
DESCRIPTION:
URL:https://didisdowntown.com/event/live-music-mick-tinsley-22/
CATEGORIES:Live Music
END:VEVENT
END:VCALENDAR