BEGIN:VCALENDAR
VERSION:2.0
PRODID:-//Didi&#039;s Downtown - ECPv5.16.4//NONSGML v1.0//EN
CALSCALE:GREGORIAN
METHOD:PUBLISH
X-WR-CALNAME:Didi&#039;s Downtown
X-ORIGINAL-URL:https://didisdowntown.com
X-WR-CALDESC:Events for Didi&#039;s Downtown
REFRESH-INTERVAL;VALUE=DURATION:PT1H
X-Robots-Tag:noindex
X-PUBLISHED-TTL:PT1H
BEGIN:VTIMEZONE
TZID:UTC
BEGIN:STANDARD
TZOFFSETFROM:+0000
TZOFFSETTO:+0000
TZNAME:UTC
DTSTART:20240101T000000
END:STANDARD
END:VTIMEZONE
BEGIN:VEVENT
DTSTART;TZID=UTC:20240901T183000
DTEND;TZID=UTC:20240901T213000
DTSTAMP:20260420T143456
CREATED:20240630T185904Z
LAST-MODIFIED:20241017T020302Z
UID:2006-1725215400-1725226200@didisdowntown.com
SUMMARY:Live Music - Mick Tinsley
DESCRIPTION:
URL:https://didisdowntown.com/event/live-music-mick-tinsley-19/
CATEGORIES:Live Music
END:VEVENT
END:VCALENDAR