BEGIN:VCALENDAR
VERSION:2.0
PRODID:-//Didi&#039;s Downtown - ECPv5.16.4//NONSGML v1.0//EN
CALSCALE:GREGORIAN
METHOD:PUBLISH
X-ORIGINAL-URL:https://didisdowntown.com
X-WR-CALDESC:Events for Didi&#039;s Downtown
REFRESH-INTERVAL;VALUE=DURATION:PT1H
X-Robots-Tag:noindex
X-PUBLISHED-TTL:PT1H
BEGIN:VTIMEZONE
TZID:UTC
BEGIN:STANDARD
TZOFFSETFROM:+0000
TZOFFSETTO:+0000
TZNAME:UTC
DTSTART:20240101T000000
END:STANDARD
END:VTIMEZONE
BEGIN:VEVENT
DTSTART;TZID=UTC:20240825T110000
DTEND;TZID=UTC:20240825T140000
DTSTAMP:20260420T150529
CREATED:20240728T234723Z
LAST-MODIFIED:20240728T234723Z
UID:2056-1724583600-1724594400@didisdowntown.com
SUMMARY:Live Music - Tim Novak
DESCRIPTION:
URL:https://didisdowntown.com/event/live-music-tim-novak-36/
CATEGORIES:Live Music
END:VEVENT
BEGIN:VEVENT
DTSTART;TZID=UTC:20240825T183000
DTEND;TZID=UTC:20240825T193000
DTSTAMP:20260420T150529
CREATED:20240804T222752Z
LAST-MODIFIED:20240804T222752Z
UID:2067-1724610600-1724614200@didisdowntown.com
SUMMARY:Live Music - A.J. Acoustic
DESCRIPTION:
URL:https://didisdowntown.com/event/live-music-a-j-acoustic/
CATEGORIES:Live Music
END:VEVENT
END:VCALENDAR