BEGIN:VCALENDAR
VERSION:2.0
PRODID:-//Didi&#039;s Downtown - ECPv5.16.4//NONSGML v1.0//EN
CALSCALE:GREGORIAN
METHOD:PUBLISH
X-ORIGINAL-URL:https://didisdowntown.com
X-WR-CALDESC:Events for Didi&#039;s Downtown
REFRESH-INTERVAL;VALUE=DURATION:PT1H
X-Robots-Tag:noindex
X-PUBLISHED-TTL:PT1H
BEGIN:VTIMEZONE
TZID:UTC
BEGIN:STANDARD
TZOFFSETFROM:+0000
TZOFFSETTO:+0000
TZNAME:UTC
DTSTART:20240101T000000
END:STANDARD
END:VTIMEZONE
BEGIN:VEVENT
DTSTART;TZID=UTC:20240822T183000
DTEND;TZID=UTC:20240822T213000
DTSTAMP:20260420T150507
CREATED:20240728T234531Z
LAST-MODIFIED:20240728T234531Z
UID:2050-1724351400-1724362200@didisdowntown.com
SUMMARY:Live Music - Rockin' Reverend
DESCRIPTION:
URL:https://didisdowntown.com/event/live-music-rockin-reverend-35/
CATEGORIES:Live Music
END:VEVENT
END:VCALENDAR