BEGIN:VCALENDAR
VERSION:2.0
PRODID:-//Didi&#039;s Downtown - ECPv5.16.4//NONSGML v1.0//EN
CALSCALE:GREGORIAN
METHOD:PUBLISH
X-WR-CALNAME:Didi&#039;s Downtown
X-ORIGINAL-URL:https://didisdowntown.com
X-WR-CALDESC:Events for Didi&#039;s Downtown
REFRESH-INTERVAL;VALUE=DURATION:PT1H
X-Robots-Tag:noindex
X-PUBLISHED-TTL:PT1H
BEGIN:VTIMEZONE
TZID:UTC
BEGIN:STANDARD
TZOFFSETFROM:+0000
TZOFFSETTO:+0000
TZNAME:UTC
DTSTART:20240101T000000
END:STANDARD
END:VTIMEZONE
BEGIN:VEVENT
DTSTART;TZID=UTC:20240803T190000
DTEND;TZID=UTC:20240803T220000
DTSTAMP:20260420T150328
CREATED:20240728T233828Z
LAST-MODIFIED:20240728T233828Z
UID:2026-1722711600-1722722400@didisdowntown.com
SUMMARY:Live Music - The She
DESCRIPTION:
URL:https://didisdowntown.com/event/live-music-the-she-9/
CATEGORIES:Live Music
END:VEVENT
END:VCALENDAR